BEGIN:VCALENDAR
VERSION:2.0
PRODID:spatie/icalendar-generator
DESCRIPTION:Veranstaltungen von Höpper Elfer
X-WR-CALDESC:Veranstaltungen von Höpper Elfer
REFRESH-INTERVAL;VALUE=DURATION:PT1440M
X-PUBLISHED-TTL:PT1440M
BEGIN:VTIMEZONE
TZID:Etc/GMT+0
BEGIN:STANDARD
DTSTART:20250416T110000Z
TZOFFSETFROM:+0000
TZOFFSETTO:+0000
END:STANDARD
END:VTIMEZONE
BEGIN:VTIMEZONE
TZID:UTC
BEGIN:STANDARD
DTSTART:20250729T102613Z
TZOFFSETFROM:+0000
TZOFFSETTO:+0000
END:STANDARD
END:VTIMEZONE
BEGIN:VEVENT
UID:10-10
DTSTAMP:20260425T102613Z
SUMMARY:Rathaussturm Höpper-Elfer
LOCATION:Gartenlandhalle An der Lohwiese 1  Albertshofen Bayern 97320
ORGANIZER;CN=Thomas:MAILTO:thomas-till@freenet.de
DTSTART;TZID=Etc/GMT+0:20260111T110000
DTEND;TZID=Etc/GMT+0:20260111T150000
X-ALT-DESC;FMTTYPE=TEXT/HTML:
CATEGORIES:General
URL;VALUE=URI:https://hoepper-elfer.de/mc-events/rathaussturm-hoepper-elfer
 ?mc_id=10
END:VEVENT
END:VCALENDAR