BEGIN:VCALENDAR
VERSION:2.0
PRODID:spatie/icalendar-generator
DESCRIPTION:Veranstaltungen von Höpper Elfer
X-WR-CALDESC:Veranstaltungen von Höpper Elfer
REFRESH-INTERVAL;VALUE=DURATION:PT1440M
X-PUBLISHED-TTL:PT1440M
BEGIN:VTIMEZONE
TZID:Etc/GMT+0
BEGIN:STANDARD
DTSTART:20240416T150000Z
TZOFFSETFROM:+0000
TZOFFSETTO:+0000
END:STANDARD
END:VTIMEZONE
BEGIN:VTIMEZONE
TZID:UTC
BEGIN:STANDARD
DTSTART:20250726T103335Z
TZOFFSETFROM:+0000
TZOFFSETTO:+0000
END:STANDARD
END:VTIMEZONE
BEGIN:VEVENT
UID:2-2
DTSTAMP:20260422T103335Z
SUMMARY:Aufbau Gartenlandhalle für Rathaussturm
LOCATION:Gartenlandhalle An der Lohwiese 1  Albertshofen Bayern 97320
ORGANIZER;CN=Höpper_Admin:MAILTO:philipp@wenkheimer.de
DTSTART;TZID=Etc/GMT+0:20250111T150000
DTEND;TZID=Etc/GMT+0:20250111T180000
X-ALT-DESC;FMTTYPE=TEXT/HTML:Viele Hände rasches Ende
CATEGORIES:General
URL;VALUE=URI:https://hoepper-elfer.de/mc-events/aufbau-gartenlandhalle-fue
 r-rathaussturm?mc_id=2
END:VEVENT
END:VCALENDAR