BEGIN:VCALENDAR
VERSION:2.0
PRODID:spatie/icalendar-generator
DESCRIPTION:Veranstaltungen von Höpper Elfer
X-WR-CALDESC:Veranstaltungen von Höpper Elfer
REFRESH-INTERVAL;VALUE=DURATION:PT1440M
X-PUBLISHED-TTL:PT1440M
BEGIN:VTIMEZONE
TZID:Etc/GMT+0
BEGIN:STANDARD
DTSTART:20250319T100000Z
TZOFFSETFROM:+0000
TZOFFSETTO:+0000
END:STANDARD
END:VTIMEZONE
BEGIN:VTIMEZONE
TZID:UTC
BEGIN:STANDARD
DTSTART:20250723T180445Z
TZOFFSETFROM:+0000
TZOFFSETTO:+0000
END:STANDARD
END:VTIMEZONE
BEGIN:VEVENT
UID:11-11
DTSTAMP:20260419T180445Z
SUMMARY:Kartenabholung
LOCATION:Gartenlandhalle An der Lohwiese 1  Albertshofen Bayern 97320
ORGANIZER;CN=Thomas:MAILTO:thomas-till@freenet.de
DTSTART;TZID=Etc/GMT+0:20251214T100000
DTEND;TZID=Etc/GMT+0:20251214T110000
X-ALT-DESC;FMTTYPE=TEXT/HTML:Im Sportheim
CATEGORIES:General
URL;VALUE=URI:https://hoepper-elfer.de/mc-events/kartenabholung?mc_id=11
END:VEVENT
END:VCALENDAR