BEGIN:VCALENDAR
VERSION:2.0
PRODID:spatie/icalendar-generator
DESCRIPTION:Veranstaltungen von Höpper Elfer
X-WR-CALDESC:Veranstaltungen von Höpper Elfer
REFRESH-INTERVAL;VALUE=DURATION:PT1440M
X-PUBLISHED-TTL:PT1440M
BEGIN:VTIMEZONE
TZID:Etc/GMT+0
BEGIN:STANDARD
DTSTART:20250428T190000Z
TZOFFSETFROM:+0000
TZOFFSETTO:+0000
END:STANDARD
END:VTIMEZONE
BEGIN:VTIMEZONE
TZID:UTC
BEGIN:STANDARD
DTSTART:20250723T141742Z
TZOFFSETFROM:+0000
TZOFFSETTO:+0000
END:STANDARD
END:VTIMEZONE
BEGIN:VEVENT
UID:13-13
DTSTAMP:20260419T141742Z
SUMMARY:Generalprobe Höpper-Elfer
LOCATION:Gartenlandhalle An der Lohwiese 1  Albertshofen Bayern 97320
ORGANIZER;CN=Thomas:MAILTO:thomas-till@freenet.de
DTSTART;TZID=Etc/GMT+0:20260123T190000
DTEND;TZID=Etc/GMT+0:20260124T000000
X-ALT-DESC;FMTTYPE=TEXT/HTML:
CATEGORIES:General
URL;VALUE=URI:https://hoepper-elfer.de/mc-events/generalprobe-hoepper-elfer
 ?mc_id=13
END:VEVENT
END:VCALENDAR