BEGIN:VCALENDAR
VERSION:2.0
PRODID:spatie/icalendar-generator
DESCRIPTION:Veranstaltungen von Höpper Elfer
X-WR-CALDESC:Veranstaltungen von Höpper Elfer
REFRESH-INTERVAL;VALUE=DURATION:PT1440M
X-PUBLISHED-TTL:PT1440M
BEGIN:VTIMEZONE
TZID:Etc/GMT+0
BEGIN:STANDARD
DTSTART:20240428T190000Z
TZOFFSETFROM:+0000
TZOFFSETTO:+0000
END:STANDARD
END:VTIMEZONE
BEGIN:VTIMEZONE
TZID:UTC
BEGIN:STANDARD
DTSTART:20250726T120857Z
TZOFFSETFROM:+0000
TZOFFSETTO:+0000
END:STANDARD
END:VTIMEZONE
BEGIN:VEVENT
UID:7-7
DTSTAMP:20260422T120857Z
SUMMARY:Gemeinsames Abschlußtraining
LOCATION:Gartenlandhalle An der Lohwiese 1  Albertshofen Bayern 97320
ORGANIZER;CN=Thomas:MAILTO:thomas-till@freenet.de
DTSTART;TZID=Etc/GMT+0:20250123T190000
DTEND;TZID=Etc/GMT+0:20250123T200000
X-ALT-DESC;FMTTYPE=TEXT/HTML:
CATEGORIES:General
URL;VALUE=URI:https://hoepper-elfer.de/mc-events/gemeinsames-abschlusstrain
 ing?mc_id=7
END:VEVENT
END:VCALENDAR